Workbook

Sheet TOTAL 2026
A1: FRAIS KM VOTRE SOCIÉTÉ – Année 2026
A3: Mois | B3: Trajets | C3: Total KM | D3: Montant (CHF)
A4: JAN 2026 | B4: =COUNT('JAN 26'!D2:D25) | C4: ='JAN 26'!D26 | D4: ='JAN 26'!F26
A5: FÉV 2026 | B5: =COUNT('FÉV 26'!D2:D25) | C5: ='FÉV 26'!D26 | D5: ='FÉV 26'!F26
A6: MAR 2026 | B6: =COUNT('MAR 26'!D2:D25) | C6: ='MAR 26'!D26 | D6: ='MAR 26'!F26
A7: AVR 2026 | B7: =COUNT('AVR 26'!D2:D25) | C7: ='AVR 26'!D26 | D7: ='AVR 26'!F26
A8: MAI 2026 | B8: =COUNT('MAI 26'!D2:D25) | C8: ='MAI 26'!D26 | D8: ='MAI 26'!F26
A9: JUIN 2026 | B9: =COUNT('JUIN 26'!D2:D25) | C9: ='JUIN 26'!D26 | D9: ='JUIN 26'!F26
A10: JUIL 2026 | B10: =COUNT('JUIL 26'!D2:D25) | C10: ='JUIL 26'!D26 | D10: ='JUIL 26'!F26
A11: AOÛ 2026 | B11: =COUNT('AOÛ 26'!D2:D25) | C11: ='AOÛ 26'!D26 | D11: ='AOÛ 26'!F26
A12: SEP 2026 | B12: =COUNT('SEP 26'!D2:D25) | C12: ='SEP 26'!D26 | D12: ='SEP 26'!F26
A13: OCT 2026 | B13: =COUNT('OCT 26'!D2:D25) | C13: ='OCT 26'!D26 | D13: ='OCT 26'!F26
A14: NOV 2026 | B14: =COUNT('NOV 26'!D2:D25) | C14: ='NOV 26'!D26 | D14: ='NOV 26'!F26
A15: DÉC 2026 | B15: =COUNT('DÉC 26'!D2:D25) | C15: ='DÉC 26'!D26 | D15: ='DÉC 26'!F26
A16: TOTAL | B16: =SUM(B4:B15) | C16: =SUM(C4:C15) | D16: =SUM(D4:D15)

Sheet JAN 26
A1: DATE | B1: Véhicule | C1: Trajet | D1: Distance km | E1: Taux | F1: TOTAL CHF | G1: Description
A2: 06/01/2026 | B2: Škoda Octavia | C2: Bureau > Yverdon AR | D2: 76 | E2: 0.75 | F2: =IF(D2="","",D2*E2) | G2: Jura Logistique – Présentation du projet
A3: 08/01/2026 | B3: Škoda Octavia | C3: Bureau > Lausanne AR | D3: 21 | E3: 0.75 | F3: =IF(D3="","",D3*E3) | G3: Fiduciaire Perret – Maintenance
A4: 09/01/2026 | B4: Škoda Octavia | C4: Bureau > Fribourg AR | D4: 146 | E4: 0.75 | F4: =IF(D4="","",D4*E4) | G4: Menuiserie Aebischer – Intervention
A5: 14/01/2026 | B5: Škoda Octavia | C5: Bureau > Nyon AR | D5: 85 | E5: 0.75 | F5: =IF(D5="","",D5*E5) | G5: Nyon Immobilier – Rendez-vous client
A6: 15/01/2026 | B6: Škoda Octavia | C6: Bureau > Vevey AR | D6: 38 | E6: 0.75 | F6: =IF(D6="","",D6*E6) | G6: Studio Riviera – Livraison
A7: 16/01/2026 | B7: Škoda Octavia | C7: Bureau > Genève AR | D7: 128 | E7: 0.75 | F7: =IF(D7="","",D7*E7) | G7: Genilac SA – Séance de projet
A8: 20/01/2026 | B8: Škoda Octavia | C8: Bureau > Vevey AR | D8: 40 | E8: 0.75 | F8: =IF(D8="","",D8*E8) | G8: Studio Riviera – Rendez-vous client
A9: 21/01/2026 | B9: Škoda Octavia | C9: Bureau > Vevey | D9: 19 | E9: 0.75 | F9: =IF(D9="","",D9*E9) | G9: Studio Riviera – Suivi de chantier
A10: 22/01/2026 | B10: Škoda Octavia | C10: Bureau > Montreux AR | D10: 59 | E10: 0.75 | F10: =IF(D10="","",D10*E10) | G10: Hôtel Beau-Rivage – Devis sur place
A11: 23/01/2026 | B11: Škoda Octavia | C11: Bureau > Lausanne AR | D11: 19 | E11: 0.75 | F11: =IF(D11="","",D11*E11) | G11: Fiduciaire Perret – Intervention
A12: 28/01/2026 | B12: Škoda Octavia | C12: Bureau > Renens AR | D12: 15 | E12: 0.75 | F12: =IF(D12="","",D12*E12) | G12: Garage Favre – Séance de projet
A13: 30/01/2026 | B13: Škoda Octavia | C13: Bureau > Lausanne | D13: 8 | E13: 0.75 | F13: =IF(D13="","",D13*E13) | G13: Fiduciaire Perret – Livraison
F14: =IF(D14="","",D14*E14)
F15: =IF(D15="","",D15*E15)
F16: =IF(D16="","",D16*E16)
F17: =IF(D17="","",D17*E17)
F18: =IF(D18="","",D18*E18)
F19: =IF(D19="","",D19*E19)
F20: =IF(D20="","",D20*E20)
F21: =IF(D21="","",D21*E21)
F22: =IF(D22="","",D22*E22)
F23: =IF(D23="","",D23*E23)
F24: =IF(D24="","",D24*E24)
F25: =IF(D25="","",D25*E25)
A26: TOTAL | D26: =SUM(D2:D25) | F26: =SUM(F2:F25)

Sheet FÉV 26
A1: DATE | B1: Véhicule | C1: Trajet | D1: Distance km | E1: Taux | F1: TOTAL CHF | G1: Description
A2: 02/02/2026 | B2: Škoda Octavia | C2: Bureau > Lausanne AR | D2: 19 | E2: 0.75 | F2: =IF(D2="","",D2*E2) | G2: Fiduciaire Perret – Livraison
A3: 03/02/2026 | B3: Škoda Octavia | C3: Bureau > Sion AR | D3: 200 | E3: 0.75 | F3: =IF(D3="","",D3*E3) | G3: Alpes Technique – Devis sur place
A4: 04/02/2026 | B4: Škoda Octavia | C4: Bureau > Lutry | D4: 8 | E4: 0.75 | F4: =IF(D4="","",D4*E4) | G4: Domaine Chappuis – Séance de projet
A5: 06/02/2026 | B5: Škoda Octavia | C5: Bureau > Lutry AR | D5: 16 | E5: 0.75 | F5: =IF(D5="","",D5*E5) | G5: Domaine Chappuis – Rendez-vous client
A6: 09/02/2026 | B6: Škoda Octavia | C6: Bureau > Lausanne AR | D6: 16 | E6: 0.75 | F6: =IF(D6="","",D6*E6) | G6: Fiduciaire Perret – Visite de site
A7: 12/02/2026 | B7: Škoda Octavia | C7: Bureau > Nyon AR | D7: 85 | E7: 0.75 | F7: =IF(D7="","",D7*E7) | G7: Nyon Immobilier – Présentation du projet
A8: 17/02/2026 | B8: Škoda Octavia | C8: Bureau > Fribourg AR | D8: 146 | E8: 0.75 | F8: =IF(D8="","",D8*E8) | G8: Menuiserie Aebischer – Rendez-vous client
A9: 23/02/2026 | B9: Škoda Octavia | C9: Bureau > Montreux | D9: 29 | E9: 0.75 | F9: =IF(D9="","",D9*E9) | G9: Hôtel Beau-Rivage – Maintenance
A10: 24/02/2026 | B10: Škoda Octavia | C10: Bureau > Nyon AR | D10: 82 | E10: 0.75 | F10: =IF(D10="","",D10*E10) | G10: Nyon Immobilier – Intervention
A11: 25/02/2026 | B11: Škoda Octavia | C11: Bureau > Genève AR | D11: 126 | E11: 0.75 | F11: =IF(D11="","",D11*E11) | G11: Genilac SA – Maintenance
A12: 27/02/2026 | B12: Škoda Octavia | C12: Bureau > Lutry AR | D12: 18 | E12: 0.75 | F12: =IF(D12="","",D12*E12) | G12: Domaine Chappuis – Visite de site
F13: =IF(D13="","",D13*E13)
F14: =IF(D14="","",D14*E14)
F15: =IF(D15="","",D15*E15)
F16: =IF(D16="","",D16*E16)
F17: =IF(D17="","",D17*E17)
F18: =IF(D18="","",D18*E18)
F19: =IF(D19="","",D19*E19)
F20: =IF(D20="","",D20*E20)
F21: =IF(D21="","",D21*E21)
F22: =IF(D22="","",D22*E22)
F23: =IF(D23="","",D23*E23)
F24: =IF(D24="","",D24*E24)
F25: =IF(D25="","",D25*E25)
A26: TOTAL | D26: =SUM(D2:D25) | F26: =SUM(F2:F25)

Sheet MAR 26
A1: DATE | B1: Véhicule | C1: Trajet | D1: Distance km | E1: Taux | F1: TOTAL CHF | G1: Description
A2: 02/03/2026 | B2: Škoda Octavia | C2: Bureau > Lausanne AR | D2: 16 | E2: 0.75 | F2: =IF(D2="","",D2*E2) | G2: Fiduciaire Perret – Visite de site
A3: 03/03/2026 | B3: Škoda Octavia | C3: Bureau > Renens AR | D3: 12 | E3: 0.75 | F3: =IF(D3="","",D3*E3) | G3: Garage Favre – Tournage
A4: 05/03/2026 | B4: Škoda Octavia | C4: Bureau > Lausanne AR | D4: 18 | E4: 0.75 | F4: =IF(D4="","",D4*E4) | G4: Fiduciaire Perret – Rendez-vous client
A5: 06/03/2026 | B5: Škoda Octavia | C5: Bureau > Montreux AR | D5: 57 | E5: 0.75 | F5: =IF(D5="","",D5*E5) | G5: Hôtel Beau-Rivage – Visite de site
A6: 12/03/2026 | B6: Škoda Octavia | C6: Bureau > Renens AR | D6: 12 | E6: 0.75 | F6: =IF(D6="","",D6*E6) | G6: Garage Favre – Intervention
A7: 13/03/2026 | B7: Škoda Octavia | C7: Bureau > Morges AR | D7: 24 | E7: 0.75 | F7: =IF(D7="","",D7*E7) | G7: Atelier Roux – Intervention
A8: 18/03/2026 | B8: Škoda Octavia | C8: Bureau > Morges AR | D8: 26 | E8: 0.75 | F8: =IF(D8="","",D8*E8) | G8: Atelier Roux – Devis sur place
A9: 19/03/2026 | B9: Škoda Octavia | C9: Bureau > Nyon AR | D9: 83 | E9: 0.75 | F9: =IF(D9="","",D9*E9) | G9: Nyon Immobilier – Maintenance
A10: 25/03/2026 | B10: Škoda Octavia | C10: Bureau > Neuchâtel AR | D10: 151 | E10: 0.75 | F10: =IF(D10="","",D10*E10) | G10: Neuchâtel Média – Séance de projet
A11: 27/03/2026 | B11: Škoda Octavia | C11: Bureau > Échallens | D11: 18 | E11: 0.75 | F11: =IF(D11="","",D11*E11) | G11: Commune d’Échallens – Présentation du projet
A12: 30/03/2026 | B12: Škoda Octavia | C12: Bureau > Lausanne | D12: 8 | E12: 0.75 | F12: =IF(D12="","",D12*E12) | G12: Fiduciaire Perret – Présentation du projet
F13: =IF(D13="","",D13*E13)
F14: =IF(D14="","",D14*E14)
F15: =IF(D15="","",D15*E15)
F16: =IF(D16="","",D16*E16)
F17: =IF(D17="","",D17*E17)
F18: =IF(D18="","",D18*E18)
F19: =IF(D19="","",D19*E19)
F20: =IF(D20="","",D20*E20)
F21: =IF(D21="","",D21*E21)
F22: =IF(D22="","",D22*E22)
F23: =IF(D23="","",D23*E23)
F24: =IF(D24="","",D24*E24)
F25: =IF(D25="","",D25*E25)
A26: TOTAL | D26: =SUM(D2:D25) | F26: =SUM(F2:F25)

Sheet AVR 26
A1: DATE | B1: Véhicule | C1: Trajet | D1: Distance km | E1: Taux | F1: TOTAL CHF | G1: Description
A2: 01/04/2026 | B2: Škoda Octavia | C2: Bureau > Lausanne | D2: 13 | E2: 0.75 | F2: =IF(D2="","",D2*E2) | G2: Fiduciaire Perret – Séance de projet
A3: 02/04/2026 | B3: Škoda Octavia | C3: Bureau > Vevey AR | D3: 40 | E3: 0.75 | F3: =IF(D3="","",D3*E3) | G3: Studio Riviera – Tournage
A4: 07/04/2026 | B4: Škoda Octavia | C4: Bureau > Montreux AR | D4: 54 | E4: 0.75 | F4: =IF(D4="","",D4*E4) | G4: Hôtel Beau-Rivage – Repérage
A5: 08/04/2026 | B5: Škoda Octavia | C5: Bureau > Vevey | D5: 24 | E5: 0.75 | F5: =IF(D5="","",D5*E5) | G5: Studio Riviera – Rendez-vous client
A6: 09/04/2026 | B6: Škoda Octavia | C6: Bureau > Lausanne AR | D6: 16 | E6: 0.75 | F6: =IF(D6="","",D6*E6) | G6: Fiduciaire Perret – Livraison
A7: 16/04/2026 | B7: Škoda Octavia | C7: Bureau > Yverdon AR | D7: 78 | E7: 0.75 | F7: =IF(D7="","",D7*E7) | G7: Jura Logistique – Devis sur place
A8: 17/04/2026 | B8: Škoda Octavia | C8: Bureau > Nyon AR | D8: 80 | E8: 0.75 | F8: =IF(D8="","",D8*E8) | G8: Nyon Immobilier – Présentation du projet
A9: 21/04/2026 | B9: Škoda Octavia | C9: Bureau > Lausanne AR | D9: 16 | E9: 0.75 | F9: =IF(D9="","",D9*E9) | G9: Fiduciaire Perret – Repérage
A10: 22/04/2026 | B10: Škoda Octavia | C10: Bureau > Genève AR | D10: 129 | E10: 0.75 | F10: =IF(D10="","",D10*E10) | G10: Genilac SA – Séance de projet
A11: 28/04/2026 | B11: Škoda Octavia | C11: Bureau > Lausanne | D11: 8 | E11: 0.75 | F11: =IF(D11="","",D11*E11) | G11: Fiduciaire Perret – Présentation du projet
F12: =IF(D12="","",D12*E12)
F13: =IF(D13="","",D13*E13)
F14: =IF(D14="","",D14*E14)
F15: =IF(D15="","",D15*E15)
F16: =IF(D16="","",D16*E16)
F17: =IF(D17="","",D17*E17)
F18: =IF(D18="","",D18*E18)
F19: =IF(D19="","",D19*E19)
F20: =IF(D20="","",D20*E20)
F21: =IF(D21="","",D21*E21)
F22: =IF(D22="","",D22*E22)
F23: =IF(D23="","",D23*E23)
... F25: =IF(D25="","",D25*E25)
A26: TOTAL | D26: =SUM(D2:D25) | F26: =SUM(F2:F25)

Sheet MAI 26
A1: DATE | B1: Véhicule | C1: Trajet | D1: Distance km | E1: Taux | F1: TOTAL CHF | G1: Description
A2: 01/05/2026 | B2: Škoda Octavia | C2: Bureau > Sion AR | D2: 205 | E2: 0.75 | F2: =IF(D2="","",D2*E2) | G2: Alpes Technique – Visite de site
A3: 06/05/2026 | B3: Škoda Octavia | C3: Bureau > Berne AR | D3: 202 | E3: 0.75 | F3: =IF(D3="","",D3*E3) | G3: Berne Conseil – Visite de site
A4: 07/05/2026 | B4: Škoda Octavia | C4: Bureau > Lausanne | D4: 8 | E4: 0.75 | F4: =IF(D4="","",D4*E4) | G4: Fiduciaire Perret – Rendez-vous client
A5: 08/05/2026 | B5: Škoda Octavia | C5: Bureau > Neuchâtel AR | D5: 151 | E5: 0.75 | F5: =IF(D5="","",D5*E5) | G5: Neuchâtel Média – Repérage
A6: 11/05/2026 | B6: Škoda Octavia | C6: Bureau > Montreux AR | D6: 54 | E6: 0.75 | F6: =IF(D6="","",D6*E6) | G6: Hôtel Beau-Rivage – Rendez-vous client
A7: 12/05/2026 | B7: Škoda Octavia | C7: Bureau > Échallens AR | D7: 36 | E7: 0.75 | F7: =IF(D7="","",D7*E7) | G7: Commune d’Échallens – Suivi de chantier
A8: 15/05/2026 | B8: Škoda Octavia | C8: Bureau > Lausanne AR | D8: 18 | E8: 0.75 | F8: =IF(D8="","",D8*E8) | G8: Fiduciaire Perret – Suivi de chantier
A9: 20/05/2026 | B9: Škoda Octavia | C9: Bureau > Lausanne | D9: 13 | E9: 0.75 | F9: =IF(D9="","",D9*E9) | G9: Fiduciaire Perret – Intervention
A10: 21/05/2026 | B10: Škoda Octavia | C10: Bureau > Yverdon AR | D10: 76 | E10: 0.75 | F10: =IF(D10="","",D10*E10) | G10: Jura Logistique – Visite de site
A11: 27/05/2026 | B11: Škoda Octavia | C11: Bureau > Neuchâtel AR | D11: 153 | E11: 0.75 | F11: =IF(D11="","",D11*E11) | G11: Neuchâtel Média – Repérage
F12: =IF(D12="","",D12*E12)
F13: =IF(D13="","",D13*E13)
F14: =IF(D14="","",D14*E14)
F15: =IF(D15="","",D15*E15)
F16: =IF(D16="","",D16*E16)
F17: =IF(D17="","",D17*E17)
F18: =IF(D18="","",D18*E18)
F19: =IF(D19="","",D19*E19)
F20: =IF(D20="","",D20*E20)
F21: =IF(D21="","",D21*E21)
F22: =IF(D22="","",D22*E22)
F23: =IF(D23="","",D23*E23)
... F25: =IF(D25="","",D25*E25)
A26: TOTAL | D26: =SUM(D2:D25) | F26: =SUM(F2:F25)

Sheet JUIN 26
A1: DATE | B1: Véhicule | C1: Trajet | D1: Distance km | E1: Taux | F1: TOTAL CHF | G1: Description
A2: 02/06/2026 | B2: Škoda Octavia | C2: Bureau > Aigle AR | D2: 86 | E2: 0.75 | F2: =IF(D2="","",D2*E2) | G2: Clinique du Léman – Suivi de chantier
A3: 03/06/2026 | B3: Škoda Octavia | C3: Bureau > Lutry AR | D3: 16 | E3: 0.75 | F3: =IF(D3="","",D3*E3) | G3: Domaine Chappuis – Suivi de chantier
A4: 09/06/2026 | B4: Škoda Octavia | C4: Bureau > Lausanne | D4: 11 | E4: 0.75 | F4: =IF(D4="","",D4*E4) | G4: Fiduciaire Perret – Suivi de chantier
A5: 11/06/2026 | B5: Škoda Octavia | C5: Bureau > Lausanne | D5: 8 | E5: 0.75 | F5: =IF(D5="","",D5*E5) | G5: Fiduciaire Perret – Tournage
A6: 12/06/2026 | B6: Škoda Octavia | C6: Bureau > Vevey | D6: 19 | E6: 0.75 | F6: =IF(D6="","",D6*E6) | G6: Studio Riviera – Tournage
A7: 15/06/2026 | B7: Škoda Octavia | C7: Bureau > Sion AR | D7: 203 | E7: 0.75 | F7: =IF(D7="","",D7*E7) | G7: Alpes Technique – Repérage
A8: 17/06/2026 | B8: Škoda Octavia | C8: Bureau > Bulle AR | D8: 122 | E8: 0.75 | F8: =IF(D8="","",D8*E8) | G8: Bulle Construction – Intervention
A9: 19/06/2026 | B9: Škoda Octavia | C9: Bureau > Lausanne AR | D9: 21 | E9: 0.75 | F9: =IF(D9="","",D9*E9) | G9: Fiduciaire Perret – Intervention
A10: 22/06/2026 | B10: Škoda Octavia | C10: Bureau > Renens AR | D10: 15 | E10: 0.75 | F10: =IF(D10="","",D10*E10) | G10: Garage Favre – Maintenance
A11: 24/06/2026 | B11: Škoda Octavia | C11: Bureau > Berne AR | D11: 200 | E11: 0.75 | F11: =IF(D11="","",D11*E11) | G11: Berne Conseil – Intervention
A12: 25/06/2026 | B12: Škoda Octavia | C12: Bureau > Neuchâtel AR | D12: 150 | E12: 0.75 | F12: =IF(D12="","",D12*E12) | G12: Neuchâtel Média – Rendez-vous client
A13: 29/06/2026 | B13: Škoda Octavia | C13: Bureau > Fribourg AR | D13: 146 | E13: 0.75 | F13: =IF(D13="","",D13*E13) | G13: Menuiserie Aebischer – Livraison
F14: =IF(D14="","",D14*E14)
F15: =IF(D15="","",D15*E15)
F16: =IF(D16="","",D16*E16)
F17: =IF(D17="","",D17*E17)
F18: =IF(D18="","",D18*E18)
F19: =IF(D19="","",D19*E19)
F20: =IF(D20="","",D20*E20)
F21: =IF(D21="","",D21*E21)
F22: =IF(D22="","",D22*E22)
F23: =IF(D23="","",D23*E23)
F24: =IF(D24="","",D24*E24)
F25: =IF(D25="","",D25*E25)
A26: TOTAL | D26: =SUM(D2:D25) | F26: =SUM(F2:F25)

Sheet JUIL 26
A1: DATE | B1: Véhicule | C1: Trajet | D1: Distance km | E1: Taux | F1: TOTAL CHF | G1: Description
A2: 01/07/2026 | B2: Škoda Octavia | C2: Bureau > Lausanne | D2: 8 | E2: 0.75 | F2: =IF(D2="","",D2*E2) | G2: Fiduciaire Perret – Tournage
A3: 07/07/2026 | B3: Škoda Octavia | C3: Bureau > Nyon AR | D3: 80 | E3: 0.75 | F3: =IF(D3="","",D3*E3) | G3: Nyon Immobilier – Formation
A4: 08/07/2026 | B4: Škoda Octavia | C4: Bureau > Fribourg AR | D4: 146 | E4: 0.75 | F4: =IF(D4="","",D4*E4) | G4: Menuiserie Aebischer – Suivi de chantier
A5: 09/07/2026 | B5: Škoda Octavia | C5: Bureau > Lutry AR | D5: 19 | E5: 0.75 | F5: =IF(D5="","",D5*E5) | G5: Domaine Chappuis – Intervention
A6: 15/07/2026 | B6: Škoda Octavia | C6: Bureau > Lausanne AR | D6: 19 | E6: 0.75 | F6: =IF(D6="","",D6*E6) | G6: Fiduciaire Perret – Livraison
A7: 17/07/2026 | B7: Škoda Octavia | C7: Bureau > Yverdon AR | D7: 79 | E7: 0.75 | F7: =IF(D7="","",D7*E7) | G7: Jura Logistique – Devis sur place
A8: 21/07/2026 | B8: Škoda Octavia | C8: Bureau > Morges | D8: 12 | E8: 0.75 | F8: =IF(D8="","",D8*E8) | G8: Atelier Roux – Visite de site
A9: 22/07/2026 | B9: Škoda Octavia | C9: Bureau > Berne AR | D9: 203 | E9: 0.75 | F9: =IF(D9="","",D9*E9) | G9: Berne Conseil – Intervention
A10: 24/07/2026 | B10: Škoda Octavia | C10: Bureau > Lausanne AR | D10: 16 | E10: 0.75 | F10: =IF(D10="","",D10*E10) | G10: Fiduciaire Perret – Visite de site
A11: 28/07/2026 | B11: Škoda Octavia | C11: Bureau > Nyon AR | D11: 82 | E11: 0.75 | F11: =IF(D11="","",D11*E11) | G11: Nyon Immobilier – Visite de site
A12: 29/07/2026 | B12: Škoda Octavia | C12: Bureau > Échallens | D12: 21 | E12: 0.75 | F12: =IF(D12="","",D12*E12) | G12: Commune d’Échallens – Livraison
A13: 30/07/2026 | B13: Škoda Octavia | C13: Bureau > Montreux AR | D13: 54 | E13: 0.75 | F13: =IF(D13="","",D13*E13) | G13: Hôtel Beau-Rivage – Tournage
A14: 31/07/2026 | B14: Škoda Octavia | C14: Bureau > Morges | D14: 12 | E14: 0.75 | F14: =IF(D14="","",D14*E14) | G14: Atelier Roux – Suivi de chantier
F15: =IF(D15="","",D15*E15)
F16: =IF(D16="","",D16*E16)
F17: =IF(D17="","",D17*E17)
F18: =IF(D18="","",D18*E18)
F19: =IF(D19="","",D19*E19)
F20: =IF(D20="","",D20*E20)
F21: =IF(D21="","",D21*E21)
F22: =IF(D22="","",D22*E22)
F23: =IF(D23="","",D23*E23)
F24: =IF(D24="","",D24*E24)
F25: =IF(D25="","",D25*E25)
A26: TOTAL | D26: =SUM(D2:D25) | F26: =SUM(F2:F25)

Sheet AOÛ 26
A1: DATE | B1: Véhicule | C1: Trajet | D1: Distance km | E1: Taux | F1: TOTAL CHF | G1: Description
A2: 03/08/2026 | B2: Škoda Octavia | C2: Bureau > Lutry | D2: 8 | E2: 0.75 | F2: =IF(D2="","",D2*E2) | G2: Domaine Chappuis – Suivi de chantier
A3: 05/08/2026 | B3: Škoda Octavia | C3: Bureau > Nyon AR | D3: 82 | E3: 0.75 | F3: =IF(D3="","",D3*E3) | G3: Nyon Immobilier – Livraison
A4: 06/08/2026 | B4: Škoda Octavia | C4: Bureau > Montreux | D4: 29 | E4: 0.75 | F4: =IF(D4="","",D4*E4) | G4: Hôtel Beau-Rivage – Intervention
A5: 12/08/2026 | B5: Škoda Octavia | C5: Bureau > Berne AR | D5: 200 | E5: 0.75 | F5: =IF(D5="","",D5*E5) | G5: Berne Conseil – Repérage
A6: 13/08/2026 | B6: Škoda Octavia | C6: Bureau > Berne AR | D6: 200 | E6: 0.75 | F6: =IF(D6="","",D6*E6) | G6: Berne Conseil – Livraison
A7: 14/08/2026 | B7: Škoda Octavia | C7: Bureau > Renens | D7: 9 | E7: 0.75 | F7: =IF(D7="","",D7*E7) | G7: Garage Favre – Intervention
A8: 17/08/2026 | B8: Škoda Octavia | C8: Bureau > Nyon AR | D8: 85 | E8: 0.75 | F8: =IF(D8="","",D8*E8) | G8: Nyon Immobilier – Formation
A9: 24/08/2026 | B9: Škoda Octavia | C9: Bureau > Montreux | D9: 27 | E9: 0.75 | F9: =IF(D9="","",D9*E9) | G9: Hôtel Beau-Rivage – Tournage
A10: 25/08/2026 | B10: Škoda Octavia | C10: Bureau > Échallens AR | D10: 36 | E10: 0.75 | F10: =IF(D10="","",D10*E10) | G10: Commune d’Échallens – Repérage
A11: 26/08/2026 | B11: Škoda Octavia | C11: Bureau > Échallens | D11: 18 | E11: 0.75 | F11: =IF(D11="","",D11*E11) | G11: Commune d’Échallens – Tournage
A12: 27/08/2026 | B12: Škoda Octavia | C12: Bureau > Genève AR | D12: 131 | E12: 0.75 | F12: =IF(D12="","",D12*E12) | G12: Genilac SA – Formation
A13: 28/08/2026 | B13: Škoda Octavia | C13: Bureau > Genève AR | D13: 128 | E13: 0.75 | F13: =IF(D13="","",D13*E13) | G13: Genilac SA – Intervention
A14: 31/08/2026 | B14: Škoda Octavia | C14: Bureau > Berne AR | D14: 203 | E14: 0.75 | F14: =IF(D14="","",D14*E14) | G14: Berne Conseil – Visite de site
F15: =IF(D15="","",D15*E15)
F16: =IF(D16="","",D16*E16)
F17: =IF(D17="","",D17*E17)
F18: =IF(D18="","",D18*E18)
F19: =IF(D19="","",D19*E19)
F20: =IF(D20="","",D20*E20)
F21: =IF(D21="","",D21*E21)
F22: =IF(D22="","",D22*E22)
F23: =IF(D23="","",D23*E23)
F24: =IF(D24="","",D24*E24)
F25: =IF(D25="","",D25*E25)
A26: TOTAL | D26: =SUM(D2:D25) | F26: =SUM(F2:F25)

Sheet SEP 26
A1: DATE | B1: Véhicule | C1: Trajet | D1: Distance km | E1: Taux | F1: TOTAL CHF | G1: Description
A2: 02/09/2026 | B2: Škoda Octavia | C2: Bureau > Montreux | D2: 27 | E2: 0.75 | F2: =IF(D2="","",D2*E2) | G2: Hôtel Beau-Rivage – Tournage
A3: 03/09/2026 | B3: Škoda Octavia | C3: Bureau > Morges | D3: 12 | E3: 0.75 | F3: =IF(D3="","",D3*E3) | G3: Atelier Roux – Présentation du projet
A4: 04/09/2026 | B4: Škoda Octavia | C4: Bureau > Lutry AR | D4: 19 | E4: 0.75 | F4: =IF(D4="","",D4*E4) | G4: Domaine Chappuis – Visite de site
A5: 09/09/2026 | B5: Škoda Octavia | C5: Bureau > Bulle AR | D5: 120 | E5: 0.75 | F5: =IF(D5="","",D5*E5) | G5: Bulle Construction – Maintenance
A6: 14/09/2026 | B6: Škoda Octavia | C6: Bureau > Échallens AR | D6: 38 | E6: 0.75 | F6: =IF(D6="","",D6*E6) | G6: Commune d’Échallens – Présentation du projet
A7: 15/09/2026 | B7: Škoda Octavia | C7: Bureau > Lausanne AR | D7: 16 | E7: 0.75 | F7: =IF(D7="","",D7*E7) | G7: Fiduciaire Perret – Intervention
A8: 16/09/2026 | B8: Škoda Octavia | C8: Bureau > Yverdon AR | D8: 76 | E8: 0.75 | F8: =IF(D8="","",D8*E8) | G8: Jura Logistique – Visite de site
A9: 17/09/2026 | B9: Škoda Octavia | C9: Bureau > Yverdon AR | D9: 76 | E9: 0.75 | F9: =IF(D9="","",D9*E9) | G9: Jura Logistique – Maintenance
A10: 22/09/2026 | B10: Škoda Octavia | C10: Bureau > Échallens AR | D10: 39 | E10: 0.75 | F10: =IF(D10="","",D10*E10) | G10: Commune d’Échallens – Devis sur place
A11: 28/09/2026 | B11: Škoda Octavia | C11: Bureau > Renens AR | D11: 12 | E11: 0.75 | F11: =IF(D11="","",D11*E11) | G11: Garage Favre – Visite de site
A12: 29/09/2026 | B12: Škoda Octavia | C12: Bureau > Yverdon AR | D12: 76 | E12: 0.75 | F12: =IF(D12="","",D12*E12) | G12: Jura Logistique – Visite de site
A13: 30/09/2026 | B13: Škoda Octavia | C13: Bureau > Neuchâtel AR | D13: 148 | E13: 0.75 | F13: =IF(D13="","",D13*E13) | G13: Neuchâtel Média – Livraison
F14: =IF(D14="","",D14*E14)
F15: =IF(D15="","",D15*E15)
F16: =IF(D16="","",D16*E16)
F17: =IF(D17="","",D17*E17)
F18: =IF(D18="","",D18*E18)
F19: =IF(D19="","",D19*E19)
F20: =IF(D20="","",D20*E20)
F21: =IF(D21="","",D21*E21)
F22: =IF(D22="","",D22*E22)
F23: =IF(D23="","",D23*E23)
F24: =IF(D24="","",D24*E24)
F25: =IF(D25="","",D25*E25)
A26: TOTAL | D26: =SUM(D2:D25) | F26: =SUM(F2:F25)

Sheet OCT 26
A1: DATE | B1: Véhicule | C1: Trajet | D1: Distance km | E1: Taux | F1: TOTAL CHF | G1: Description
A2: 02/10/2026 | B2: Škoda Octavia | C2: Bureau > Morges | D2: 15 | E2: 0.75 | F2: =IF(D2="","",D2*E2) | G2: Atelier Roux – Formation
A3: 07/10/2026 | B3: Škoda Octavia | C3: Bureau > Lutry AR | D3: 16 | E3: 0.75 | F3: =IF(D3="","",D3*E3) | G3: Domaine Chappuis – Formation
A4: 14/10/2026 | B4: Škoda Octavia | C4: Bureau > Renens AR | D4: 12 | E4: 0.75 | F4: =IF(D4="","",D4*E4) | G4: Garage Favre – Repérage
A5: 16/10/2026 | B5: Škoda Octavia | C5: Bureau > Échallens AR | D5: 39 | E5: 0.75 | F5: =IF(D5="","",D5*E5) | G5: Commune d’Échallens – Séance de projet
A6: 19/10/2026 | B6: Škoda Octavia | C6: Bureau > Lausanne AR | D6: 16 | E6: 0.75 | F6: =IF(D6="","",D6*E6) | G6: Fiduciaire Perret – Suivi de chantier
A7: 21/10/2026 | B7: Škoda Octavia | C7: Bureau > Nyon AR | D7: 85 | E7: 0.75 | F7: =IF(D7="","",D7*E7) | G7: Nyon Immobilier – Tournage
A8: 22/10/2026 | B8: Škoda Octavia | C8: Bureau > Vevey AR | D8: 40 | E8: 0.75 | F8: =IF(D8="","",D8*E8) | G8: Studio Riviera – Présentation du projet
A9: 23/10/2026 | B9: Škoda Octavia | C9: Bureau > Montreux AR | D9: 54 | E9: 0.75 | F9: =IF(D9="","",D9*E9) | G9: Hôtel Beau-Rivage – Visite de site
A10: 27/10/2026 | B10: Škoda Octavia | C10: Bureau > Échallens | D10: 21 | E10: 0.75 | F10: =IF(D10="","",D10*E10) | G10: Commune d’Échallens – Repérage
A11: 28/10/2026 | B11: Škoda Octavia | C11: Bureau > Fribourg AR | D11: 151 | E11: 0.75 | F11: =IF(D11="","",D11*E11) | G11: Menuiserie Aebischer – Livraison
A12: 29/10/2026 | B12: Škoda Octavia | C12: Bureau > Lutry AR | D12: 16 | E12: 0.75 | F12: =IF(D12="","",D12*E12) | G12: Domaine Chappuis – Repérage
F13: =IF(D13="","",D13*E13)
F14: =IF(D14="","",D14*E14)
F15: =IF(D15="","",D15*E15)
F16: =IF(D16="","",D16*E16)
F17: =IF(D17="","",D17*E17)
F18: =IF(D18="","",D18*E18)
F19: =IF(D19="","",D19*E19)
F20: =IF(D20="","",D20*E20)
F21: =IF(D21="","",D21*E21)
F22: =IF(D22="","",D22*E22)
F23: =IF(D23="","",D23*E23)
F24: =IF(D24="","",D24*E24)
F25: =IF(D25="","",D25*E25)
A26: TOTAL | D26: =SUM(D2:D25) | F26: =SUM(F2:F25)

Sheet NOV 26
A1: DATE | B1: Véhicule | C1: Trajet | D1: Distance km | E1: Taux | F1: TOTAL CHF | G1: Description
A2: 02/11/2026 | B2: Škoda Octavia | C2: Bureau > Yverdon AR | D2: 79 | E2: 0.75 | F2: =IF(D2="","",D2*E2) | G2: Jura Logistique – Repérage
A3: 03/11/2026 | B3: Škoda Octavia | C3: Bureau > Aigle AR | D3: 88 | E3: 0.75 | F3: =IF(D3="","",D3*E3) | G3: Clinique du Léman – Visite de site
A4: 04/11/2026 | B4: Škoda Octavia | C4: Bureau > Berne AR | D4: 205 | E4: 0.75 | F4: =IF(D4="","",D4*E4) | G4: Berne Conseil – Livraison
A5: 05/11/2026 | B5: Škoda Octavia | C5: Bureau > Nyon AR | D5: 80 | E5: 0.75 | F5: =IF(D5="","",D5*E5) | G5: Nyon Immobilier – Repérage
A6: 06/11/2026 | B6: Škoda Octavia | C6: Bureau > Bulle AR | D6: 123 | E6: 0.75 | F6: =IF(D6="","",D6*E6) | G6: Bulle Construction – Formation
A7: 10/11/2026 | B7: Škoda Octavia | C7: Bureau > Montreux AR | D7: 57 | E7: 0.75 | F7: =IF(D7="","",D7*E7) | G7: Hôtel Beau-Rivage – Livraison
A8: 12/11/2026 | B8: Škoda Octavia | C8: Bureau > Yverdon AR | D8: 81 | E8: 0.75 | F8: =IF(D8="","",D8*E8) | G8: Jura Logistique – Visite de site
A9: 19/11/2026 | B9: Škoda Octavia | C9: Bureau > Fribourg AR | D9: 148 | E9: 0.75 | F9: =IF(D9="","",D9*E9) | G9: Menuiserie Aebischer – Visite de site
A10: 23/11/2026 | B10: Škoda Octavia | C10: Bureau > Vevey AR | D10: 38 | E10: 0.75 | F10: =IF(D10="","",D10*E10) | G10: Studio Riviera – Intervention
A11: 24/11/2026 | B11: Škoda Octavia | C11: Bureau > Lausanne | D11: 11 | E11: 0.75 | F11: =IF(D11="","",D11*E11) | G11: Fiduciaire Perret – Livraison
A12: 26/11/2026 | B12: Škoda Octavia | C12: Bureau > Lausanne | D12: 8 | E12: 0.75 | F12: =IF(D12="","",D12*E12) | G12: Fiduciaire Perret – Visite de site
A13: 30/11/2026 | B13: Škoda Octavia | C13: Bureau > Montreux AR | D13: 57 | E13: 0.75 | F13: =IF(D13="","",D13*E13) | G13: Hôtel Beau-Rivage – Intervention
F14: =IF(D14="","",D14*E14)
F15: =IF(D15="","",D15*E15)
F16: =IF(D16="","",D16*E16)
F17: =IF(D17="","",D17*E17)
F18: =IF(D18="","",D18*E18)
F19: =IF(D19="","",D19*E19)
F20: =IF(D20="","",D20*E20)
F21: =IF(D21="","",D21*E21)
F22: =IF(D22="","",D22*E22)
F23: =IF(D23="","",D23*E23)
F24: =IF(D24="","",D24*E24)
F25: =IF(D25="","",D25*E25)
A26: TOTAL | D26: =SUM(D2:D25) | F26: =SUM(F2:F25)

Sheet DÉC 26
A1: DATE | B1: Véhicule | C1: Trajet | D1: Distance km | E1: Taux | F1: TOTAL CHF | G1: Description
A2: 01/12/2026 | B2: Škoda Octavia | C2: Bureau > Vevey AR | D2: 43 | E2: 0.75 | F2: =IF(D2="","",D2*E2) | G2: Studio Riviera – Repérage
A3: 02/12/2026 | B3: Škoda Octavia | C3: Bureau > Lutry | D3: 8 | E3: 0.75 | F3: =IF(D3="","",D3*E3) | G3: Domaine Chappuis – Séance de projet
A4: 07/12/2026 | B4: Škoda Octavia | C4: Bureau > Sion AR | D4: 202 | E4: 0.75 | F4: =IF(D4="","",D4*E4) | G4: Alpes Technique – Devis sur place
A5: 08/12/2026 | B5: Škoda Octavia | C5: Bureau > Lutry AR | D5: 16 | E5: 0.75 | F5: =IF(D5="","",D5*E5) | G5: Domaine Chappuis – Maintenance
A6: 09/12/2026 | B6: Škoda Octavia | C6: Bureau > Lausanne AR | D6: 16 | E6: 0.75 | F6: =IF(D6="","",D6*E6) | G6: Fiduciaire Perret – Séance de projet
A7: 10/12/2026 | B7: Škoda Octavia | C7: Bureau > Renens AR | D7: 15 | E7: 0.75 | F7: =IF(D7="","",D7*E7) | G7: Garage Favre – Intervention
A8: 14/12/2026 | B8: Škoda Octavia | C8: Bureau > Fribourg AR | D8: 151 | E8: 0.75 | F8: =IF(D8="","",D8*E8) | G8: Menuiserie Aebischer – Formation
A9: 15/12/2026 | B9: Škoda Octavia | C9: Bureau > Yverdon AR | D9: 76 | E9: 0.75 | F9: =IF(D9="","",D9*E9) | G9: Jura Logistique – Repérage
A10: 16/12/2026 | B10: Škoda Octavia | C10: Bureau > Renens | D10: 11 | E10: 0.75 | F10: =IF(D10="","",D10*E10) | G10: Garage Favre – Devis sur place
A11: 22/12/2026 | B11: Škoda Octavia | C11: Bureau > Neuchâtel AR | D11: 148 | E11: 0.75 | F11: =IF(D11="","",D11*E11) | G11: Neuchâtel Média – Devis sur place
A12: 28/12/2026 | B12: Škoda Octavia | C12: Bureau > Montreux AR | D12: 54 | E12: 0.75 | F12: =IF(D12="","",D12*E12) | G12: Hôtel Beau-Rivage – Rendez-vous client
A13: 31/12/2026 | B13: Škoda Octavia | C13: Bureau > Yverdon AR | D13: 76 | E13: 0.75 | F13: =IF(D13="","",D13*E13) | G13: Jura Logistique – Rendez-vous client
F14: =IF(D14="","",D14*E14)
F15: =IF(D15="","",D15*E15)
F16: =IF(D16="","",D16*E16)
F17: =IF(D17="","",D17*E17)
F18: =IF(D18="","",D18*E18)
F19: =IF(D19="","",D19*E19)
F20: =IF(D20="","",D20*E20)
F21: =IF(D21="","",D21*E21)
F22: =IF(D22="","",D22*E22)
F23: =IF(D23="","",D23*E23)
F24: =IF(D24="","",D24*E24)
F25: =IF(D25="","",D25*E25)
A26: TOTAL | D26: =SUM(D2:D25) | F26: =SUM(F2:F25)
